BEGIN:VCALENDAR
VERSION:2.0
PRODID:-//Plone.org//NONSGML plone.app.event//EN
X-WR-TIMEZONE:Europe/Rome
BEGIN:VEVENT
SUMMARY:Bando Erasmus+ 2024/25
DTSTART;TZID=Europe/Rome;VALUE=DATE-TIME:20240117T100000
DTEND;TZID=Europe/Rome;VALUE=DATE-TIME:20240117T120000
DTSTAMP;VALUE=DATE-TIME:20260419T164731Z
UID:446ded29d7f34f528b7cf5a84c336339@stat.unibo.it
CREATED;VALUE=DATE-TIME:20240115T133330Z
DESCRIPTION:Riunione informativa riguardante gli scambi Erasmus coordinati
  dai docenti del Dipartimento.\nInfo-meeting on the Erasmus exchange schem
 es available at the Department of Statistical Sciences
LAST-MODIFIED;VALUE=DATE-TIME:20240115T133430Z
URL:https://stat.unibo.it/it/eventi/bando-erasmus-2024-25
END:VEVENT
BEGIN:VTIMEZONE
TZID:Europe/Rome
X-LIC-LOCATION:Europe/Rome
BEGIN:STANDARD
DTSTART;VALUE=DATE-TIME:20231029T020000
TZNAME:CET
TZOFFSETFROM:+0200
TZOFFSETTO:+0100
END:STANDARD
END:VTIMEZONE
END:VCALENDAR
