BEGIN:VCALENDAR
VERSION:2.0
PRODID:-//Plone.org//NONSGML plone.app.event//EN
X-WR-TIMEZONE:Europe/Rome
BEGIN:VEVENT
SUMMARY:A modularized Bayesian factor analysis model for policy evaluation
DTSTART;TZID=Europe/Rome;VALUE=DATE-TIME:20240530T160000
DTEND;TZID=Europe/Rome;VALUE=DATE-TIME:20240530T170000
DTSTAMP;VALUE=DATE-TIME:20260420T113716Z
UID:bcecdf059dd74349a27d07993a3f9977@stat.unibo.it
CREATED;VALUE=DATE-TIME:20240523T120649Z
DESCRIPTION:Relatore: Pantelis Samartsidis (Univerity of Cambridge)
LAST-MODIFIED;VALUE=DATE-TIME:20240523T120756Z
URL:https://stat.unibo.it/it/eventi/a-modularized-bayesian-factor-analysis
 -model-for-policy-evaluation
END:VEVENT
BEGIN:VTIMEZONE
TZID:Europe/Rome
X-LIC-LOCATION:Europe/Rome
BEGIN:DAYLIGHT
DTSTART;VALUE=DATE-TIME:20240331T030000
TZNAME:CEST
TZOFFSETFROM:+0100
TZOFFSETTO:+0200
END:DAYLIGHT
END:VTIMEZONE
END:VCALENDAR
