BEGIN:VCALENDAR
VERSION:2.0
PRODID:-//Plone.org//NONSGML plone.app.event//EN
X-WR-TIMEZONE:Europe/Rome
BEGIN:VEVENT
SUMMARY:Introduzione all’uso delle banche dati statistiche: I.stat\, Eur
 ostat\, Ocse. Sessione di formazione per PhDs
DTSTART;TZID=Europe/Rome;VALUE=DATE-TIME:20160630T090000
DTEND;TZID=Europe/Rome;VALUE=DATE-TIME:20160630T123000
DTSTAMP;VALUE=DATE-TIME:20260425T015551Z
UID:1696208540cc41a599340ced7da99136@stat.unibo.it
CREATED;VALUE=DATE-TIME:20160615T101914Z
DESCRIPTION:Incontri di formazione organizzati dalla Biblioteca del Dipart
 imento per i dottorandi in Scienze Statistiche
LAST-MODIFIED;VALUE=DATE-TIME:20160615T104540Z
URL:https://stat.unibo.it/it/eventi/Introduzione-uso-delle-banche-dati-sta
 tistichePhD
END:VEVENT
BEGIN:VTIMEZONE
TZID:Europe/Rome
X-LIC-LOCATION:Europe/Rome
BEGIN:DAYLIGHT
DTSTART;VALUE=DATE-TIME:20160327T030000
TZNAME:CEST
TZOFFSETFROM:+0100
TZOFFSETTO:+0200
END:DAYLIGHT
END:VTIMEZONE
END:VCALENDAR
